BEGIN:VCALENDAR
VERSION:2.0
PRODID:-//wp-events-plugin.com//7.2.1//EN
TZID:Europe/Paris
X-WR-TIMEZONE:Europe/Paris
BEGIN:VEVENT
UID:15@iem.umontpellier.fr
DTSTART;TZID=Europe/Paris:20221213T153000
DTEND;TZID=Europe/Paris:20221213T163000
DTSTAMP:20221216T215124Z
URL:https://iem.umontpellier.fr/events/conference-sebastien-royer-13-12-20
 22/
SUMMARY:Conférence : Sébastien ROYER - 13/12/2022
DESCRIPTION:Conférence de Sébastien ROYER - Université de Lille - UCCS\n
 Perovskites pour les réactions d’oxydation à basse température\nRésu
 mé
CATEGORIES:Conférence
END:VEVENT
BEGIN:VTIMEZONE
TZID:Europe/Paris
X-LIC-LOCATION:Europe/Paris
BEGIN:STANDARD
DTSTART:20221030T020000
TZOFFSETFROM:+0200
TZOFFSETTO:+0100
TZNAME:CET
END:STANDARD
END:VTIMEZONE
END:VCALENDAR