BEGIN:VCALENDAR
VERSION:2.0
PRODID:-//wp-events-plugin.com//7.2.1//EN
TZID:Europe/Paris
X-WR-TIMEZONE:Europe/Paris
BEGIN:VEVENT
UID:172@iem.umontpellier.fr
DTSTART;TZID=Europe/Paris:20260127T000000
DTEND;TZID=Europe/Paris:20260130T000000
DTSTAMP:20250915T090531Z
URL:https://iem.umontpellier.fr/events/jirec-2026/
SUMMARY:JIREC 2026
DESCRIPTION:\nhttps://jirec2026.sciencesconf.org/\nL'IEM soutient et co org
 anise cet évènement.\n\n&nbsp\;
ATTACH;FMTTYPE=image/jpeg:https://iem.umontpellier.fr/wp-content/uploads/2
 025/09/JREC2026.png
CATEGORIES:Conférence
END:VEVENT
BEGIN:VTIMEZONE
TZID:Europe/Paris
X-LIC-LOCATION:Europe/Paris
BEGIN:STANDARD
DTSTART:20251026T020000
TZOFFSETFROM:+0200
TZOFFSETTO:+0100
TZNAME:CET
END:STANDARD
END:VTIMEZONE
END:VCALENDAR