BEGIN:VCALENDAR
VERSION:2.0
PRODID:-//wp-events-plugin.com//7.2.1//EN
TZID:Europe/Paris
X-WR-TIMEZONE:Europe/Paris
BEGIN:VEVENT
UID:30@iem.umontpellier.fr
DTSTART;TZID=Europe/Paris:20230112T093000
DTEND;TZID=Europe/Paris:20230112T163000
DTSTAMP:20221220T181947Z
URL:https://iem.umontpellier.fr/events/journee-scientifique-scf-om-ed459-1
 2-1-2023/
SUMMARY:Journée Scientifique SCF-OM/ED459 - 12/1/2023
DESCRIPTION:Finale des prix de thèse SCF Occitanie Méditerranée\nLa fina
 le des deux prix de thèse SCF-Occitanie Méditerranée 2021 et 2022\, co-
 organisée et co-labellisée avec l’ED 459 Sciences Chimiques Balard\, s
 e tiendra le jeudi 12 janvier 2023 dans l’amphithéâtre de la Délégat
 ion Régionale CNRS.\nAu programme\, deux conférences plénières par Chr
 istelle Hureau (LCC Toulouse) et Yann Pellegrin (CEISAM Nantes) qui siège
 ront également au jury\, et les présentations des dix finalistes.
CATEGORIES:Congrès, colloques, écoles
END:VEVENT
BEGIN:VTIMEZONE
TZID:Europe/Paris
X-LIC-LOCATION:Europe/Paris
BEGIN:STANDARD
DTSTART:20221030T020000
TZOFFSETFROM:+0200
TZOFFSETTO:+0100
TZNAME:CET
END:STANDARD
END:VTIMEZONE
END:VCALENDAR