BEGIN:VCALENDAR
VERSION:2.0
PRODID:-//wp-events-plugin.com//7.2.1//EN
TZID:Europe/Paris
X-WR-TIMEZONE:Europe/Paris
BEGIN:VEVENT
UID:130@iem.umontpellier.fr
DTSTART;TZID=Europe/Paris;VALUE=DATE:20241106
DTEND;TZID=Europe/Paris;VALUE=DATE:20241107
DTSTAMP:20241025T131025Z
URL:https://iem.umontpellier.fr/events/mini-symposium-6-novembre-2024/
SUMMARY:Mini symposium 6 Novembre 2024
DESCRIPTION:Mini symposium\n\nMercredi 6 Novembre 2024\n\n"Membranes &amp\;
  Polymers: Exploring New Frontiers inMaterial Science"\n\nEn savoir plus\n
 \nSymposium Program
ATTACH;FMTTYPE=image/jpeg:https://iem.umontpellier.fr/wp-content/uploads/2
 024/10/Sans-titre.png
CATEGORIES:Congrès, colloques, écoles
END:VEVENT
BEGIN:VTIMEZONE
TZID:Europe/Paris
X-LIC-LOCATION:Europe/Paris
BEGIN:STANDARD
DTSTART:20241027T020000
TZOFFSETFROM:+0200
TZOFFSETTO:+0100
TZNAME:CET
END:STANDARD
END:VTIMEZONE
END:VCALENDAR