BEGIN:VCALENDAR
VERSION:2.0
PRODID:-//wp-events-plugin.com//7.2.1//EN
TZID:Europe/Paris
X-WR-TIMEZONE:Europe/Paris
BEGIN:VEVENT
UID:200@iem.umontpellier.fr
DTSTART;TZID=Europe/Paris:20260608T093000
DTEND;TZID=Europe/Paris:20260608T123000
DTSTAMP:20260420T132130Z
URL:https://iem.umontpellier.fr/events/soutenance-hdr-chrystelle-salameh-l
 undi-8-juin-a-9h30-enscm/
SUMMARY:Soutenance HDR Chrystelle SALAMEH - Lundi 8 Juin à 9h30 (ENSCM)
DESCRIPTION:Chrystelle SALAMEH\n\nsoutiendra son Habilitation à Diriger de
 s Recherches\n\nLe Lundi 8 Juin 2026\n\nà 9h30\n\n(Amphi GODECHOT à l'EN
 SCM)\n\n"De la chimie des précurseurs aux matériaux 3D: Ingénierie mol
 éculaire et conception multi-échelle"\n\n&nbsp\;\n\ndevant le jury compo
 sé de :\n\n- Svetlana Mintova - ENSICAEN\, Caen\n\n- Ralf Riedel - TU Dar
 mstadt\, Allemagne\n\n- Philippe Tailhades - Cirimat Toulouse\n\n- Sophie 
 Carenco - CINaM\, Marseille\n\n- David Farrusseng - IRCELYON\, Lyon\n\n- C
 orine Gérardin  - ICGM\, Montpellier\n\nRésumé :\n\nCe travail d’Hab
 ilitation à Diriger des Recherches s’inscrit dans une stratégie scient
 ifique visant la conception rationnelle de matériaux céramiques fonction
 nels\, depuis la chimie des précurseurs moléculaires jusqu’à leur str
 ucturation en architectures tridimensionnelles contrôlées\, avec pour ob
 jectif central la maîtrise des propriétés en vue d’applications en ca
 talyse et en procédés membranaires.\n\nLes travaux développés reposent
  sur l’élaboration de céramiques sur mesure\, mises en forme par des p
 rocédés avancés\, en particulier l’impression 3D par photopolymérisa
 tion\, offrant un contrôle fin de la porosité\, de la surface spécifiqu
 e et de l’organisation architecturale des matériaux.\n\nDans le domaine
  de la catalyse\, cette approche a conduit au développement de monolithes
  catalytiques 3D permettant de dépasser les limitations des catalyseurs c
 onventionnels sous forme poudre\, notamment en améliorant les phénomène
 s de transfert de matière\, la gestion thermique et la stabilité en cond
 itions opératoires. Ces systèmes ont été appliqués à des réactions 
 clés telles que l’hydrogénation du CO2\, en intégrant des phases acti
 ves au sein de structures hiérarchisées optimisées.\n\nParallèlement\,
  les travaux consacrés aux membranes céramiques s’inscrivent dans une 
 logique de procédés intensifiés\, intégrant au sein d’un même maté
 riau des fonctions de séparation et de réactivité. Des membranes archit
 ecturées ont ainsi été développées pour le traitement de l’eau\, in
 cluant la séparation eau/huile\, la filtration sélective et l’intégra
 tion de fonctionnalités catalytiques ou photocatalytiques\, contribuant 
 à améliorer significativement l’efficacité et la compacité des proc
 édés.\n\nL’ensemble de ces travaux repose sur une approche multi-éche
 lle intégrée\, reliant de manière cohérente l’ingénierie moléculai
 re des précurseurs à la structuration macroscopique\, afin d’établir 
 des relations structure–propriétés–performances dans des systèmes c
 omplexes.\n\n&nbsp\;
ATTACH;FMTTYPE=image/jpeg:https://iem.umontpellier.fr/wp-content/uploads/2
 026/04/Chrystelle-SALAMEH.jpg
CATEGORIES:Soutenance
END:VEVENT
BEGIN:VTIMEZONE
TZID:Europe/Paris
X-LIC-LOCATION:Europe/Paris
BEGIN:DAYLIGHT
DTSTART:20260329T030000
TZOFFSETFROM:+0100
TZOFFSETTO:+0200
TZNAME:CEST
END:DAYLIGHT
END:VTIMEZONE
END:VCALENDAR